BEGIN:VCALENDAR
VERSION:2.0
PRODID:-//Bygdekontakten - ECPv6.15.18//NONSGML v1.0//EN
CALSCALE:GREGORIAN
METHOD:PUBLISH
X-WR-CALNAME:Bygdekontakten
X-ORIGINAL-URL:https://bygdekontakten.no
X-WR-CALDESC:Arrangement for Bygdekontakten
REFRESH-INTERVAL;VALUE=DURATION:PT1H
X-Robots-Tag:noindex
X-PUBLISHED-TTL:PT1H
BEGIN:VTIMEZONE
TZID:Europe/Oslo
BEGIN:DAYLIGHT
TZOFFSETFROM:+0100
TZOFFSETTO:+0200
TZNAME:CEST
DTSTART:20240331T010000
END:DAYLIGHT
BEGIN:STANDARD
TZOFFSETFROM:+0200
TZOFFSETTO:+0100
TZNAME:CET
DTSTART:20241027T010000
END:STANDARD
BEGIN:DAYLIGHT
TZOFFSETFROM:+0100
TZOFFSETTO:+0200
TZNAME:CEST
DTSTART:20250330T010000
END:DAYLIGHT
BEGIN:STANDARD
TZOFFSETFROM:+0200
TZOFFSETTO:+0100
TZNAME:CET
DTSTART:20251026T010000
END:STANDARD
BEGIN:DAYLIGHT
TZOFFSETFROM:+0100
TZOFFSETTO:+0200
TZNAME:CEST
DTSTART:20260329T010000
END:DAYLIGHT
BEGIN:STANDARD
TZOFFSETFROM:+0200
TZOFFSETTO:+0100
TZNAME:CET
DTSTART:20261025T010000
END:STANDARD
END:VTIMEZONE
BEGIN:VEVENT
DTSTART;TZID=Europe/Oslo:20250801T183000
DTEND;TZID=Europe/Oslo:20250801T200000
DTSTAMP:20260420T100814
CREATED:20250720T200546Z
LAST-MODIFIED:20250720T201517Z
UID:8329-1754073000-1754078400@bygdekontakten.no
SUMMARY:Trim-/terrengløpskarusell
DESCRIPTION:Løp nummer elleve av i alt atten løp denne sesongen. Start fra kl. 18:30 ( uten tidtaking)\, og kl 19:00 med tidtaking. Du kan gå\, jogge eller springe\, 2 km (en eller flere runder) ellet 5 km.  Startkontingent kr 20/løp\, kr 100/sesong\, kr 300/familie. Alle opp t.o.m. 15 år som fullfører minst sju løp får premie\, vi andre får et lodd for hvert løp vi fullfører. Premieutdeling og loddtrekking  etter løpet 19/9. Alle er velkomne til en sprek start på helga🏃🏻‍♀️‍➡️🚶‍➡️
URL:https://bygdekontakten.no/event/trim-terrenglopskarusell-95/
LOCATION:Myrset i Øvre Kvam
CATEGORIES:Idrettsarrangementer
END:VEVENT
BEGIN:VEVENT
DTSTART;TZID=Europe/Oslo:20250802T190000
DTEND;TZID=Europe/Oslo:20250802T190000
DTSTAMP:20260420T100814
CREATED:20250703T201658Z
LAST-MODIFIED:20250703T201658Z
UID:8306-1754161200-1754161200@bygdekontakten.no
SUMMARY:Grillkveld på Rygg bygdasenter 2.august🥩🌭🥙🥒🌞
DESCRIPTION:Tradisjonell grillkveld på Rygg Bygdasenter lørdag 2.august kl. 19:00🌞Velkommen!
URL:https://bygdekontakten.no/event/grillkveld-pa-rygg-bygdasenter-2-august%f0%9f%a5%a9%f0%9f%8c%ad%f0%9f%a5%99%f0%9f%a5%92%f0%9f%8c%9e/
LOCATION:Rygg bygdasenter\, Kjerkolvegen 14\, STEINKJER\, 7732\, Norge
END:VEVENT
BEGIN:VEVENT
DTSTART;TZID=Europe/Oslo:20250808T183000
DTEND;TZID=Europe/Oslo:20250808T200000
DTSTAMP:20260420T100814
CREATED:20250806T191958Z
LAST-MODIFIED:20250806T203723Z
UID:8353-1754677800-1754683200@bygdekontakten.no
SUMMARY:Trim-/terrengløpskarusell
DESCRIPTION:Tolvte løp av i alt atten denne sesongen. Start uten tidtaking fra kl. 18.30\, med tidtaking kl. 19.00. Du kan gå\, jogge eller springe fort\, 2 km ( en eller flere runder) eller 5 km. Startkontingent kr 20\,- per løp\, kr 100 for sesongen\, kr 300 for familie. Alle opp til og med 15 år som fullfører minst sju løp får premie\, alle vi andre får et lodd for hvert løp vi fullfører. Premieutdeling og loddtrekking etter løpet 19/9. Drikke til alle etter løpet. Alle er velkomne til en sprek start på helga 🏃🏻‍♀️‍➡️🚶‍♂️‍➡️
URL:https://bygdekontakten.no/event/trim-terrenglopskarusell-96/
LOCATION:Myrset i Øvre Kvam
CATEGORIES:Idrettsarrangementer
END:VEVENT
BEGIN:VEVENT
DTSTART;TZID=Europe/Oslo:20250809T110000
DTEND;TZID=Europe/Oslo:20250809T140000
DTSTAMP:20260420T100814
CREATED:20250806T071312Z
LAST-MODIFIED:20250806T071312Z
UID:8349-1754737200-1754748000@bygdekontakten.no
SUMMARY:Slåttedag i Haugtrøenget
DESCRIPTION:De siste 10  åra har det vært fjellslått i Haugtrø og Knedalsenget som ligger langs Giltmarkveien i Dalbygda. Lørdag 9.aug kl 1100 arrangere i slåttedag hvor vi viser bruk av ljå og motorisert slåtteutstyr. Det blir og info om hvorfor vi driver slått i området.\nVeibeskrivelse:\nParker i veikrysset inn til Vesterdalen\, gå til gården Vesterdalen og fortsett Giltmarkveien bak nyfjøset. Ca 1\,5 km fra Vesterdalen.\nDet serveres kaffe med noggå attåt.\nVelkommen!!!
URL:https://bygdekontakten.no/event/slattedag-i-haugtroenget/
CATEGORIES:Kulturarrangementer
END:VEVENT
BEGIN:VEVENT
DTSTART;TZID=Europe/Oslo:20250813T190000
DTEND;TZID=Europe/Oslo:20250813T213000
DTSTAMP:20260420T100814
CREATED:20250806T193615Z
LAST-MODIFIED:20250806T193615Z
UID:8357-1755111600-1755120600@bygdekontakten.no
SUMMARY:Kveldstur til høgda nordom Nastadseteren
DESCRIPTION:Start fra Hølbekken ( enden av Nordsjøvegen) kl 19.00. Bomveg kr 50\,-. Ev samkjøring fra Myrset kl. 18.30. Hver enkelt tar med mat og drikke til seg sjøl. Fottøy for myr.
URL:https://bygdekontakten.no/event/kveldstur-til-hogda-nordom-nastadseteren/
CATEGORIES:Idrettsarrangementer
END:VEVENT
BEGIN:VEVENT
DTSTART;TZID=Europe/Oslo:20250815T183000
DTEND;TZID=Europe/Oslo:20250815T200000
DTSTAMP:20260420T100814
CREATED:20250806T202821Z
LAST-MODIFIED:20250806T202821Z
UID:8359-1755282600-1755288000@bygdekontakten.no
SUMMARY:Trim-/terrengløpskarusell
DESCRIPTION:Trettende løp av i alt atten denne sesongen. Start uten tidtaking fra kl. 18.30\, med tidtaking kl. 19.00. Du kan gå\, jogge eller springe fort\, 2 km ( en eller flere runder) eller 5 km. Startkontingent kr 20\,- per løp\, kr 100 for sesongen\, kr 300 for familie. Alle opp til og med 15 år som fullfører minst sju løp får premie\, alle vi andre får et lodd for hvert løp vi fullfører. Premieutdeling og loddtrekking etter løpet 19/9. Drikke til alle etter løpet. Alle er velkomne til en sprek start på helga 🏃🏻‍♀️‍➡️🚶‍♂️‍➡️
URL:https://bygdekontakten.no/event/trim-terrenglopskarusell-97/
LOCATION:Myrset i Øvre Kvam
CATEGORIES:Idrettsarrangementer
END:VEVENT
BEGIN:VEVENT
DTSTART;TZID=Europe/Oslo:20250817T110000
DTEND;TZID=Europe/Oslo:20250817T130000
DTSTAMP:20260420T100814
CREATED:20250806T193140Z
LAST-MODIFIED:20250806T193140Z
UID:8355-1755428400-1755435600@bygdekontakten.no
SUMMARY:Friluftslivets år 2025: Trimbingo
DESCRIPTION:Kortsalg mellom kl. 11 og 12\, kr 30\,- per kort. Lappene henger i 2 km- løypa\, men hvis det er utfordrende kan man gå litt på Myrset og spille bingo der. Premiering som før. I anledning Friluftslivets år trekker vi på noen få enkle premier blant deltakerne. Salg av kaffe\, saft og kjeks. Kombiner søndagsturen med en bingorunde\, vel møtt 🍫😊
URL:https://bygdekontakten.no/event/friluftslivets-ar-2025-trimbingo/
LOCATION:Myrset i Øvre Kvam
CATEGORIES:Idrettsarrangementer
END:VEVENT
BEGIN:VEVENT
DTSTART;TZID=Europe/Oslo:20250822T183000
DTEND;TZID=Europe/Oslo:20250822T200000
DTSTAMP:20260420T100814
CREATED:20250806T203041Z
LAST-MODIFIED:20250806T203041Z
UID:8361-1755887400-1755892800@bygdekontakten.no
SUMMARY:Trim-/terrengløpskarusell
DESCRIPTION:Fjortende løp av i alt atten denne sesongen. Start uten tidtaking fra kl. 18.30\, med tidtaking kl. 19.00. Du kan gå\, jogge eller springe fort\, 2 km ( en eller flere runder) eller 5 km. Startkontingent kr 20\,- per løp\, kr 100 for sesongen\, kr 300 for familie. Alle opp til og med 15 år som fullfører minst sju løp får premie\, alle vi andre får et lodd for hvert løp vi fullfører. Premieutdeling og loddtrekking etter løpet 19/9. Drikke til alle etter løpet. Alle er velkomne til en sprek start på helga 🏃🏻‍♀️‍➡️🚶‍♂️‍➡️
URL:https://bygdekontakten.no/event/trim-terrenglopskarusell-98/
LOCATION:Myrset i Øvre Kvam
CATEGORIES:Idrettsarrangementer
END:VEVENT
BEGIN:VEVENT
DTSTART;TZID=Europe/Oslo:20250827T000000
DTEND;TZID=Europe/Oslo:20250827T000000
DTSTAMP:20260420T100814
CREATED:20250823T121811Z
LAST-MODIFIED:20250823T121811Z
UID:8394-1756252800-1756252800@bygdekontakten.no
SUMMARY:Utsatt: Kveldsturen er utsatt ei uke!
DESCRIPTION:Kveldsturen er utsatt ei uke på grunn av et viktig møte om skolekretsgrenser.  Vi oppfordrer folk til å møte opp\, så tar vi trimturen onsdag 3. september 😉!
URL:https://bygdekontakten.no/event/utsatt-kveldsturen-er-utsatt-ei-uke/
END:VEVENT
BEGIN:VEVENT
DTSTART;TZID=Europe/Oslo:20250827T080000
DTEND;TZID=Europe/Oslo:20250827T210000
DTSTAMP:20260420T100814
CREATED:20250827T162334Z
LAST-MODIFIED:20250827T162334Z
UID:8432-1756281600-1756328400@bygdekontakten.no
SUMMARY:Kveldstur utsatt
DESCRIPTION:Kveldsturen fra Øksnes til Snåsavatnet/Braseth er utsatt ei uke\, til onsdag 3/9. Viktig møte om skolegrenser/skolestruktur i kveld!
URL:https://bygdekontakten.no/event/kveldstur-utsatt/
END:VEVENT
BEGIN:VEVENT
DTSTART;TZID=Europe/Oslo:20250827T190000
DTEND;TZID=Europe/Oslo:20250827T210000
DTSTAMP:20260420T100814
CREATED:20250822T110041Z
LAST-MODIFIED:20250822T110041Z
UID:8384-1756321200-1756328400@bygdekontakten.no
SUMMARY:Møte om nye skolekretsgrenser og skolestruktur - hva betyr det for Kvam skolekrets?
DESCRIPTION:Kvam skolekrets står foran viktige endringer: Forslag om nye skolekretsgrenser kan få store konsekvenser for elever\, foreldre og hele nærmiljøet i Følling\, Kvam og Øvre-Kvam. FAU ved Kvam skole inviterer vi til et åpent folkemøte hvor vi sammen kan belyse og diskutere saken. Alle er velkommen. \nTid og sted: Kvam grendehus\, onsdag 27. august kl. 19-21.
URL:https://bygdekontakten.no/event/mote-om-nye-skolekretsgrenser-og-skolestruktur-hva-betyr-det-for-kvam-skolekrets/
END:VEVENT
BEGIN:VEVENT
DTSTART;TZID=Europe/Oslo:20250829T183000
DTEND;TZID=Europe/Oslo:20250829T200000
DTSTAMP:20260420T100814
CREATED:20250806T203252Z
LAST-MODIFIED:20250806T203252Z
UID:8363-1756492200-1756497600@bygdekontakten.no
SUMMARY:Trim-/terrengløpskarusell
DESCRIPTION:Femtende løp av i alt atten denne sesongen. Start uten tidtaking fra kl. 18.30\, med tidtaking kl. 19.00. Du kan gå\, jogge eller springe fort\, 2 km ( en eller flere runder) eller 5 km. Startkontingent kr 20\,- per løp\, kr 100 for sesongen\, kr 300 for familie. Alle opp til og med 15 år som fullfører minst sju løp får premie\, alle vi andre får et lodd for hvert løp vi fullfører. Premieutdeling og loddtrekking etter løpet 19/9. Drikke til alle etter løpet. Alle er velkomne til en sprek start på helga 🏃🏻‍♀️‍➡️🚶‍♂️‍➡️
URL:https://bygdekontakten.no/event/trim-terrenglopskarusell-99/
LOCATION:Myrset i Øvre Kvam
CATEGORIES:Idrettsarrangementer
END:VEVENT
BEGIN:VEVENT
DTSTART;TZID=Europe/Oslo:20250830T110000
DTEND;TZID=Europe/Oslo:20250830T140000
DTSTAMP:20260420T100814
CREATED:20250826T102353Z
LAST-MODIFIED:20250826T102554Z
UID:8412-1756551600-1756562400@bygdekontakten.no
SUMMARY:Kvam IL - Aktivitetsdag på stadion 30. august
DESCRIPTION:Kvam IL arrangerer sin årlige aktivitetsdag på stadion lørdag 30. august kl. 11-14. Her blir det fotballcup\, mesternes mester\, artig-stafett og offisiell åpning av den nye kioskbua. Loddsalg og kiosksalg. Alle er velkommen!
URL:https://bygdekontakten.no/event/kvam-il-arrangerer-aktivitetsdag-pa-stadion-30-august/
END:VEVENT
BEGIN:VEVENT
DTSTART;TZID=Europe/Oslo:20250830T190000
DTEND;TZID=Europe/Oslo:20250831T013000
DTSTAMP:20260420T100814
CREATED:20250619T183503Z
LAST-MODIFIED:20250619T183503Z
UID:8268-1756580400-1756603800@bygdekontakten.no
SUMMARY:Quizkveld i Kvam grendehus
DESCRIPTION:I forlengelsen av idrettslaget sin årlige aktivitetsdag inviterer Kvam grendehus til pubquiz lørdag 30. august.Dørene og baren åpner kl. 19.00\, quizen starter kl. 20.00.Inngang kr 100\,- per deltaker.Aldersgrense 18 år (legitimasjonsplikt). Salg av øl/vin.
URL:https://bygdekontakten.no/event/quizkveld-i-kvam-grendehus/
END:VEVENT
END:VCALENDAR