BEGIN:VCALENDAR
VERSION:2.0
PRODID:-//Bygdekontakten - ECPv6.15.18//NONSGML v1.0//EN
CALSCALE:GREGORIAN
METHOD:PUBLISH
X-WR-CALNAME:Bygdekontakten
X-ORIGINAL-URL:https://bygdekontakten.no
X-WR-CALDESC:Arrangement for Bygdekontakten
REFRESH-INTERVAL;VALUE=DURATION:PT1H
X-Robots-Tag:noindex
X-PUBLISHED-TTL:PT1H
BEGIN:VTIMEZONE
TZID:Europe/Oslo
BEGIN:DAYLIGHT
TZOFFSETFROM:+0100
TZOFFSETTO:+0200
TZNAME:CEST
DTSTART:20250330T010000
END:DAYLIGHT
BEGIN:STANDARD
TZOFFSETFROM:+0200
TZOFFSETTO:+0100
TZNAME:CET
DTSTART:20251026T010000
END:STANDARD
BEGIN:DAYLIGHT
TZOFFSETFROM:+0100
TZOFFSETTO:+0200
TZNAME:CEST
DTSTART:20260329T010000
END:DAYLIGHT
BEGIN:STANDARD
TZOFFSETFROM:+0200
TZOFFSETTO:+0100
TZNAME:CET
DTSTART:20261025T010000
END:STANDARD
BEGIN:DAYLIGHT
TZOFFSETFROM:+0100
TZOFFSETTO:+0200
TZNAME:CEST
DTSTART:20270328T010000
END:DAYLIGHT
BEGIN:STANDARD
TZOFFSETFROM:+0200
TZOFFSETTO:+0100
TZNAME:CET
DTSTART:20271031T010000
END:STANDARD
END:VTIMEZONE
BEGIN:VEVENT
DTSTART;TZID=Europe/Oslo:20260421T184500
DTEND;TZID=Europe/Oslo:20260421T200000
DTSTAMP:20260419T222929
CREATED:20260413T173604Z
LAST-MODIFIED:20260413T173604Z
UID:9109-1776797100-1776801600@bygdekontakten.no
SUMMARY:Tirsdagsdametrim
DESCRIPTION:i gymnastikksalen på Rygg Bygdasenter. \nHovedvekt på kondisjon og styrke\, med enkle tilpasninger. Vi trener for å greie oss best mulig\, nå og i framtida. \nTreningsavgift vinter-/vårsesongen kr 400\,-. Vipps til Rygg IL Trimgruppa (802821). Merk Tirsdagstrim. Det er to ganger gratis sånn at du kan finne ut om dette passer for deg. \nVel møtt til ei svett og sprek økt i lag med andre trivelige trimmere.
URL:https://bygdekontakten.no/event/tirsdagsdametrim-135/
LOCATION:Rygg bygdasenter\, Kjerkolvegen 14\, STEINKJER\, 7732\, Norge
CATEGORIES:Idrettsarrangementer
END:VEVENT
BEGIN:VEVENT
DTSTART;TZID=Europe/Oslo:20260424T170000
DTEND;TZID=Europe/Oslo:20260424T180000
DTSTAMP:20260419T222929
CREATED:20260417T211557Z
LAST-MODIFIED:20260417T211557Z
UID:9116-1777050000-1777053600@bygdekontakten.no
SUMMARY:Fredagstrim
DESCRIPTION:i hallen ved Kvam skole. \nHovedvekt på kondisjon og styrke\, med enkle tilpasninger. Vi trener for å greie oss best mulig\, nå og i framtida. \nVel møtt til en svett og sprek start på helga!
URL:https://bygdekontakten.no/event/fredagstrim-124/
LOCATION:Kvam skole
CATEGORIES:Idrettsarrangementer
END:VEVENT
BEGIN:VEVENT
DTSTART;TZID=Europe/Oslo:20260428T184500
DTEND;TZID=Europe/Oslo:20260428T200000
DTSTAMP:20260419T222929
CREATED:20260417T211911Z
LAST-MODIFIED:20260417T211911Z
UID:9118-1777401900-1777406400@bygdekontakten.no
SUMMARY:Tirsdagsdametrim
DESCRIPTION:i gymnastikksalen på Rygg Bygdasenter. \nHovedvekt på kondisjon og styrke\, med enkle tilpasninger. Vi trener for både nåtid og framtid. \nDu får to ganger gratis sånn at du kan finne ut om dette er noe for deg. \nVel møtt til ei sprek og svett økt sammen med andre trivelige og spreke trimmere.
URL:https://bygdekontakten.no/event/tirsdagsdametrim-136/
LOCATION:Rygg bygdasenter\, Kjerkolvegen 14\, STEINKJER\, 7732\, Norge
CATEGORIES:Idrettsarrangementer
END:VEVENT
BEGIN:VEVENT
DTSTART;TZID=Europe/Oslo:20260430T190000
DTEND;TZID=Europe/Oslo:20260430T210000
DTSTAMP:20260419T222929
CREATED:20260305T200802Z
LAST-MODIFIED:20260409T154321Z
UID:9019-1777575600-1777582800@bygdekontakten.no
SUMMARY:Vårkonsert med "baillslæpp"
DESCRIPTION:VÅRKONSERT med BAILLSLÆPP i KVAM GRENDEHUS \nTorsdag 30. APRIL 2026  KL. 19.00 (NY TID) \nGratis inngang. Salg av kaffe med nåkkå attåt\nLoddsalg \nAktører:\nLokale elever ved Steinkjer kulturskole\nKvam og Følling Musikkorps\n Korsome\nMusikklaget Liv \nVELKOMMEN!  \n  \n 
URL:https://bygdekontakten.no/event/varkonsert-og-baillslaepp/
LOCATION:Kvam grendehus
CATEGORIES:Kulturarrangementer
END:VEVENT
BEGIN:VEVENT
DTSTART;TZID=Europe/Oslo:20260613T190000
DTEND;TZID=Europe/Oslo:20260613T190000
DTSTAMP:20260419T222929
CREATED:20260404T170014Z
LAST-MODIFIED:20260404T180557Z
UID:9080-1781377200-1781377200@bygdekontakten.no
SUMMARY:Pub-bingo i Kvam grendehus
DESCRIPTION:
URL:https://bygdekontakten.no/event/pub-bingo-i-kvam-grendehus/
END:VEVENT
END:VCALENDAR