BEGIN:VCALENDAR
VERSION:2.0
PRODID:-//Bygdekontakten - ECPv6.15.18//NONSGML v1.0//EN
CALSCALE:GREGORIAN
METHOD:PUBLISH
X-WR-CALNAME:Bygdekontakten
X-ORIGINAL-URL:https://bygdekontakten.no
X-WR-CALDESC:Arrangement for Bygdekontakten
REFRESH-INTERVAL;VALUE=DURATION:PT1H
X-Robots-Tag:noindex
X-PUBLISHED-TTL:PT1H
BEGIN:VTIMEZONE
TZID:Europe/Oslo
BEGIN:DAYLIGHT
TZOFFSETFROM:+0100
TZOFFSETTO:+0200
TZNAME:CEST
DTSTART:20240331T010000
END:DAYLIGHT
BEGIN:STANDARD
TZOFFSETFROM:+0200
TZOFFSETTO:+0100
TZNAME:CET
DTSTART:20241027T010000
END:STANDARD
BEGIN:DAYLIGHT
TZOFFSETFROM:+0100
TZOFFSETTO:+0200
TZNAME:CEST
DTSTART:20250330T010000
END:DAYLIGHT
BEGIN:STANDARD
TZOFFSETFROM:+0200
TZOFFSETTO:+0100
TZNAME:CET
DTSTART:20251026T010000
END:STANDARD
BEGIN:DAYLIGHT
TZOFFSETFROM:+0100
TZOFFSETTO:+0200
TZNAME:CEST
DTSTART:20260329T010000
END:DAYLIGHT
BEGIN:STANDARD
TZOFFSETFROM:+0200
TZOFFSETTO:+0100
TZNAME:CET
DTSTART:20261025T010000
END:STANDARD
END:VTIMEZONE
BEGIN:VEVENT
DTSTART;TZID=Europe/Oslo:20251219T190000
DTEND;TZID=Europe/Oslo:20251219T203000
DTSTAMP:20260420T021310
CREATED:20251215T153706Z
LAST-MODIFIED:20251215T193437Z
UID:8792-1766170800-1766176200@bygdekontakten.no
SUMMARY:Julekonsert i Kvam kirke
DESCRIPTION:Kvam & Følling musikkorps og Kvam menighetsråd inviterer til Førjulskonsert med bygdas korps og kor. \nVed utgangen er det mulighet for å gi en gave til Kvam og Følling musikkorps. \nHjertelig velkommen til en koselig førjulstradisjon!
URL:https://bygdekontakten.no/event/julekonsert-i-kvam-kirke-4/
CATEGORIES:Kulturarrangementer
END:VEVENT
BEGIN:VEVENT
DTSTART;TZID=Europe/Oslo:20251226T120000
DTEND;TZID=Europe/Oslo:20251226T140000
DTSTAMP:20260420T021310
CREATED:20251219T215607Z
LAST-MODIFIED:20251219T215607Z
UID:8812-1766750400-1766757600@bygdekontakten.no
SUMMARY:Juletrefest i Følling grendehus
DESCRIPTION:Velkommen til juletrefest i Følling grendehus 2.juledag klokka 12-14!\n\nVi serverer kaffe\, kaker og kakao. Det blir leker\, gang rundt juletreet og kanskje kommer nissen.\n\nBarn 50kr/voksne 50 kr.\nLoddtrekning på inngangsbillett!
URL:https://bygdekontakten.no/event/juletrefest-i-folling-grendehus-2/
LOCATION:Kvam grendehus
CATEGORIES:Kulturarrangementer
END:VEVENT
BEGIN:VEVENT
DTSTART;TZID=Europe/Oslo:20251226T193000
DTEND;TZID=Europe/Oslo:20251226T235900
DTSTAMP:20260420T021310
CREATED:20251219T215203Z
LAST-MODIFIED:20251219T215203Z
UID:8810-1766777400-1766793540@bygdekontakten.no
SUMMARY:JuleQuiz i Følling grendehus
DESCRIPTION:Styret i Følling grendehus arrangerer jule-quiz med påfølgende 4.dagsfest i Følling Grendehus! \nQuizen starter kl. 20.00. Etterpå åpner vi dansegulvet og spiller allsidig musikk som får fart på dansefoten om du vil! \nQUIZ:\nMax 6 stk. pr lag\nPåmelding av lag til: 95783878\nInngang kr 100\,- uansett om du skal være med på quiz eller ikke. Masse fine premier!\n\nSett av datoen\, dra med deg naboen og kom på en trivelig kveld i Grendehuset for hele bygda! Selvfølgelig er «utabøgdes» også hjertelig velkommen\, både til quiz og sosialt etterpå.\n\nPub med alle rettigheter. 18-års aldersgrense.
URL:https://bygdekontakten.no/event/julequiz-i-folling-grendehus/
LOCATION:Følling grendehus\, Kvamsvegen 1446\, Steinkjer\, 7732
CATEGORIES:Kulturarrangementer
END:VEVENT
END:VCALENDAR