BEGIN:VCALENDAR
VERSION:2.0
PRODID:-//Bygdekontakten - ECPv6.15.18//NONSGML v1.0//EN
CALSCALE:GREGORIAN
METHOD:PUBLISH
X-ORIGINAL-URL:https://bygdekontakten.no
X-WR-CALDESC:Arrangement for Bygdekontakten
REFRESH-INTERVAL;VALUE=DURATION:PT1H
X-Robots-Tag:noindex
X-PUBLISHED-TTL:PT1H
BEGIN:VTIMEZONE
TZID:Europe/Oslo
BEGIN:DAYLIGHT
TZOFFSETFROM:+0100
TZOFFSETTO:+0200
TZNAME:CEST
DTSTART:20180325T010000
END:DAYLIGHT
BEGIN:STANDARD
TZOFFSETFROM:+0200
TZOFFSETTO:+0100
TZNAME:CET
DTSTART:20181028T010000
END:STANDARD
BEGIN:DAYLIGHT
TZOFFSETFROM:+0100
TZOFFSETTO:+0200
TZNAME:CEST
DTSTART:20190331T010000
END:DAYLIGHT
BEGIN:STANDARD
TZOFFSETFROM:+0200
TZOFFSETTO:+0100
TZNAME:CET
DTSTART:20191027T010000
END:STANDARD
BEGIN:DAYLIGHT
TZOFFSETFROM:+0100
TZOFFSETTO:+0200
TZNAME:CEST
DTSTART:20200329T010000
END:DAYLIGHT
BEGIN:STANDARD
TZOFFSETFROM:+0200
TZOFFSETTO:+0100
TZNAME:CET
DTSTART:20201025T010000
END:STANDARD
END:VTIMEZONE
BEGIN:VEVENT
DTSTART;TZID=Europe/Oslo:20190802T183000
DTEND;TZID=Europe/Oslo:20190802T200000
DTSTAMP:20260425T223536
CREATED:20190801T164941Z
LAST-MODIFIED:20190801T164941Z
UID:1754-1564770600-1564776000@bygdekontakten.no
SUMMARY:Trim-/terrengløpskarusell
DESCRIPTION:Start på Myrset. De som vil ha tidtaking starter kl. 19.00. De som vil gå\, jogge eller springe uten tidtaking kan starte fra kl. 18.30. Fin oppkjøring til Borgfjelløpet søndag.
URL:https://bygdekontakten.no/event/trim-terrenglopskarusell-9/
CATEGORIES:Idrettsarrangementer
END:VEVENT
BEGIN:VEVENT
DTSTART;VALUE=DATE:20190804
DTEND;VALUE=DATE:20190805
DTSTAMP:20260425T223536
CREATED:20190425T181935Z
LAST-MODIFIED:20190425T181935Z
UID:1260-1564876800-1564963199@bygdekontakten.no
SUMMARY:Borgfjelløpet
DESCRIPTION:Terrengløp arrangert av Kvam i.l. og Rygg i.l.
URL:https://bygdekontakten.no/event/borgfjellopet/
CATEGORIES:Idrettsarrangementer
END:VEVENT
BEGIN:VEVENT
DTSTART;TZID=Europe/Oslo:20190807T190000
DTEND;TZID=Europe/Oslo:20190807T210000
DTSTAMP:20260425T223536
CREATED:20190801T165544Z
LAST-MODIFIED:20190801T165544Z
UID:1756-1565204400-1565211600@bygdekontakten.no
SUMMARY:Kveldstur til Støa
DESCRIPTION:Start kl. 19 fra Rygg Bygdesenter. Man kan sykle eller gå (ev. padle eller ro\, men da fra egnet startsted). Støa er nede ved Snåsavatnet nedenfor Sør Ol\, så det er ganske bratt nedover. Muligheter for bading for den som vil. Hver enkelt tar med mat og drikke til seg sjøl. Vel møtt til en trivelig og sosial trimtur.
URL:https://bygdekontakten.no/event/kveldstur-til-stoa/
CATEGORIES:Idrettsarrangementer
END:VEVENT
BEGIN:VEVENT
DTSTART;TZID=Europe/Oslo:20190816T183000
DTEND;TZID=Europe/Oslo:20190816T200000
DTSTAMP:20260425T223536
CREATED:20190816T061216Z
LAST-MODIFIED:20190816T061216Z
UID:1766-1565980200-1565985600@bygdekontakten.no
SUMMARY:Trim-/terrengløpskarusell
DESCRIPTION:fra Myrset hver fredag. Start uten tidtaking fra kl. 18.30. Start med tidtaking kl. 19.00. Vel møtt!
URL:https://bygdekontakten.no/event/trim-terrenglopskarusell-10/
CATEGORIES:Idrettsarrangementer
END:VEVENT
BEGIN:VEVENT
DTSTART;TZID=Europe/Oslo:20190817T100000
DTEND;TZID=Europe/Oslo:20190817T160000
DTSTAMP:20260425T223536
CREATED:20190401T123508Z
LAST-MODIFIED:20190809T081328Z
UID:1037-1566036000-1566057600@bygdekontakten.no
SUMMARY:Snåsavatnet Rundt 2019 - AVLYST!!!!
DESCRIPTION:Lørdag 17. august skulle Snåsavatnet Rundt 2019 arrangeres\, men komiteen velger å avlyse rittet grunnet for dårlig påmelding! Kortløypa Byafjellet Rundt blir dermed også avlyst! \nArrangør\nFølling IL og Steinkjer Cykleklubb \n 
URL:https://bygdekontakten.no/event/snasavatnet-rundt-2019/
CATEGORIES:Idrettsarrangementer
END:VEVENT
BEGIN:VEVENT
DTSTART;TZID=Europe/Oslo:20190823T183000
DTEND;TZID=Europe/Oslo:20190823T200000
DTSTAMP:20260425T223536
CREATED:20190821T071754Z
LAST-MODIFIED:20190821T072914Z
UID:1797-1566585000-1566590400@bygdekontakten.no
SUMMARY:Trim-/terrengløpskarusell
DESCRIPTION:Start fra Myrset\, uten tidtaking fra kl. 18.30\, med tidtaking kl. 19.00. \nVi holder på til og med 20. september\, så det er ennå noen få løp til (fem med denne fredagen). \nDet er noen løpere fra 15 år og yngre som fremdeles kan greie premie hvis de stiller på de siste løpene (kravet er minst sju løp av 18). Vel møtt!
URL:https://bygdekontakten.no/event/trim-terrenglopskarusell-11/
CATEGORIES:Idrettsarrangementer
END:VEVENT
BEGIN:VEVENT
DTSTART;TZID=Europe/Oslo:20190825T090000
DTEND;TZID=Europe/Oslo:20190825T170000
DTSTAMP:20260425T223536
CREATED:20190819T110846Z
LAST-MODIFIED:20190819T111011Z
UID:1779-1566723600-1566752400@bygdekontakten.no
SUMMARY:Tour de Følling
DESCRIPTION:Søndag 25. august blir det igjen anledning til å bli med på å gå innom alle trimkassene i Følling! \nman kan også velge å gå bare deler av turen! Mer info i linken til arrangementet nederst i  innlegget. \nVi håper på bedre vær enn tidligere år til begge dagene😅\nBli med på en fin tur! Vi treffes 😀 \nBilder fra turen i fjor 🙂 \n        \nLink til arrangementet:\nhttps://www.facebook.com/events/902176700138843/
URL:https://bygdekontakten.no/event/tour-de-folling/
CATEGORIES:Idrettsarrangementer
END:VEVENT
BEGIN:VEVENT
DTSTART;TZID=Europe/Oslo:20190830T183000
DTEND;TZID=Europe/Oslo:20190830T200000
DTSTAMP:20260425T223536
CREATED:20190826T153728Z
LAST-MODIFIED:20190826T153728Z
UID:1820-1567189800-1567195200@bygdekontakten.no
SUMMARY:Trim-/terrengløpskarusell
DESCRIPTION:Nå er det fire løp igjen i årets karusell. \nStart fra Myrset. Uten tidtaking fra kl. 18.30\, med tidtaking kl. 19.00. Vel møtt!
URL:https://bygdekontakten.no/event/trim-terrenglopskarusell-12/
CATEGORIES:Idrettsarrangementer
END:VEVENT
BEGIN:VEVENT
DTSTART;TZID=Europe/Oslo:20190831T110000
DTEND;TZID=Europe/Oslo:20190831T150000
DTSTAMP:20260425T223536
CREATED:20190408T211617Z
LAST-MODIFIED:20190826T082048Z
UID:1144-1567249200-1567263600@bygdekontakten.no
SUMMARY:Kvam il -aktivitetsdag
DESCRIPTION:Kvam IL arrangerer aktivitetsdag lørdag 31. august. Det blir aktiviteter som passer for både små og store – blant annet fotballcup\, natursti og «mesternes mester».\nKiosksalg og loddsalg. \n \nVi ønsker alle hjertelig velkommen til en trivelig dag! Idrettslaget håper både kvamsokninger\, føllingsbygg og øverkvamsokninger finner veien til Kvam stadion denne dagen.
URL:https://bygdekontakten.no/event/aktivitetsdag/
LOCATION:Kvam stadion
CATEGORIES:Idrettsarrangementer
END:VEVENT
END:VCALENDAR