BEGIN:VCALENDAR
VERSION:2.0
PRODID:-//Bygdekontakten - ECPv6.15.18//NONSGML v1.0//EN
CALSCALE:GREGORIAN
METHOD:PUBLISH
X-WR-CALNAME:Bygdekontakten
X-ORIGINAL-URL:https://bygdekontakten.no
X-WR-CALDESC:Arrangement for Bygdekontakten
REFRESH-INTERVAL;VALUE=DURATION:PT1H
X-Robots-Tag:noindex
X-PUBLISHED-TTL:PT1H
BEGIN:VTIMEZONE
TZID:Europe/Oslo
BEGIN:DAYLIGHT
TZOFFSETFROM:+0100
TZOFFSETTO:+0200
TZNAME:CEST
DTSTART:20180325T010000
END:DAYLIGHT
BEGIN:STANDARD
TZOFFSETFROM:+0200
TZOFFSETTO:+0100
TZNAME:CET
DTSTART:20181028T010000
END:STANDARD
BEGIN:DAYLIGHT
TZOFFSETFROM:+0100
TZOFFSETTO:+0200
TZNAME:CEST
DTSTART:20190331T010000
END:DAYLIGHT
BEGIN:STANDARD
TZOFFSETFROM:+0200
TZOFFSETTO:+0100
TZNAME:CET
DTSTART:20191027T010000
END:STANDARD
BEGIN:DAYLIGHT
TZOFFSETFROM:+0100
TZOFFSETTO:+0200
TZNAME:CEST
DTSTART:20200329T010000
END:DAYLIGHT
BEGIN:STANDARD
TZOFFSETFROM:+0200
TZOFFSETTO:+0100
TZNAME:CET
DTSTART:20201025T010000
END:STANDARD
END:VTIMEZONE
BEGIN:VEVENT
DTSTART;TZID=Europe/Oslo:20190606T200000
DTEND;TZID=Europe/Oslo:20190606T200000
DTSTAMP:20260425T194745
CREATED:20190603T063031Z
LAST-MODIFIED:20190603T063235Z
UID:1518-1559851200-1559851200@bygdekontakten.no
SUMMARY:Fotball Gutter junior Kvam/Beitstad - Verdal 2 på Kvam stadion
DESCRIPTION:
URL:https://bygdekontakten.no/event/fotball-gutter-junior-kvam-beitstad-verdal-2-pa-kvam-stadion-kl-2000/
CATEGORIES:Idrettsarrangementer
END:VEVENT
BEGIN:VEVENT
DTSTART;TZID=Europe/Oslo:20190607T183000
DTEND;TZID=Europe/Oslo:20190607T183000
DTSTAMP:20260425T194745
CREATED:20190603T063203Z
LAST-MODIFIED:20190603T063203Z
UID:1520-1559932200-1559932200@bygdekontakten.no
SUMMARY:Fotball J 11 Følling - Sørlia på Semsmyra
DESCRIPTION:
URL:https://bygdekontakten.no/event/fotball-j-11-folling-sorlia-pa-semsmyra/
CATEGORIES:Idrettsarrangementer
END:VEVENT
BEGIN:VEVENT
DTSTART;TZID=Europe/Oslo:20190611T183000
DTEND;TZID=Europe/Oslo:20190611T183000
DTSTAMP:20260425T194745
CREATED:20190604T063710Z
LAST-MODIFIED:20190604T063710Z
UID:1526-1560277800-1560277800@bygdekontakten.no
SUMMARY:Fotball G 12 Kvam/Følling - Namdalseid på Kvam stadion
DESCRIPTION:
URL:https://bygdekontakten.no/event/fotball-g-12-kvam-folling-namdalseid-pa-kvam-stadion/
CATEGORIES:Idrettsarrangementer
END:VEVENT
BEGIN:VEVENT
DTSTART;TZID=Europe/Oslo:20190613T183000
DTEND;TZID=Europe/Oslo:20190613T183000
DTSTAMP:20260425T194745
CREATED:20190604T063936Z
LAST-MODIFIED:20190604T063936Z
UID:1530-1560450600-1560450600@bygdekontakten.no
SUMMARY:Fotball J 13 Følling/Beitstad - Verdal 2 på Semsmyra
DESCRIPTION:
URL:https://bygdekontakten.no/event/fotball-j-13-folling-beitstad-verdal-2-pa-semsmyra/
CATEGORIES:Idrettsarrangementer
END:VEVENT
BEGIN:VEVENT
DTSTART;TZID=Europe/Oslo:20190615T110000
DTEND;TZID=Europe/Oslo:20190615T110000
DTSTAMP:20260425T194745
CREATED:20190409T050209Z
LAST-MODIFIED:20190604T064431Z
UID:1159-1560596400-1560596400@bygdekontakten.no
SUMMARY:Isbolen opp - terrengløp
DESCRIPTION:Se innlegg på hovedsida
URL:https://bygdekontakten.no/event/isbolen-opp-terrenglop/
CATEGORIES:Idrettsarrangementer
END:VEVENT
BEGIN:VEVENT
DTSTART;TZID=Europe/Oslo:20190618T193000
DTEND;TZID=Europe/Oslo:20190618T193000
DTSTAMP:20260425T194745
CREATED:20190604T064103Z
LAST-MODIFIED:20190604T064103Z
UID:1532-1560886200-1560886200@bygdekontakten.no
SUMMARY:Fotball G 19 Kvam/Beitstad - Grong på Kvam stadion
DESCRIPTION:
URL:https://bygdekontakten.no/event/fotball-g-19-kvam-beitstad-grong-pa-kvam-stadion/
CATEGORIES:Idrettsarrangementer
END:VEVENT
BEGIN:VEVENT
DTSTART;TZID=Europe/Oslo:20190626T200000
DTEND;TZID=Europe/Oslo:20190626T200000
DTSTAMP:20260425T194745
CREATED:20190604T064226Z
LAST-MODIFIED:20190604T064226Z
UID:1534-1561579200-1561579200@bygdekontakten.no
SUMMARY:Fotball senior herrer Kvam - Flatanger 2 på Kvam stadion
DESCRIPTION:
URL:https://bygdekontakten.no/event/fotball-senior-herrer-kvam-flatanger-2-pa-kvam-stadion/
CATEGORIES:Idrettsarrangementer
END:VEVENT
BEGIN:VEVENT
DTSTART;VALUE=DATE:20190630
DTEND;VALUE=DATE:20190701
DTSTAMP:20260425T194745
CREATED:20190409T081921Z
LAST-MODIFIED:20190607T135553Z
UID:1163-1561852800-1561939199@bygdekontakten.no
SUMMARY:Kvam il- trimkassetur
DESCRIPTION:Starter ved parkeringa ovenfor Skogan kl 0900 hvor turen går om trimkassene Gjeterhytta\, Hauganseteren\, Midtfjellstein\, Kaukarberget \, Olknuten og videre til parkeringsplassen på Skogan. Flere kaffekok langs ruta.\nHilsen Trimgruppa i Kvam il.
URL:https://bygdekontakten.no/event/kvam-il-trimkassetur/
CATEGORIES:Idrettsarrangementer
END:VEVENT
END:VCALENDAR