BEGIN:VCALENDAR
VERSION:2.0
PRODID:-//Bygdekontakten - ECPv6.15.18//NONSGML v1.0//EN
CALSCALE:GREGORIAN
METHOD:PUBLISH
X-ORIGINAL-URL:https://bygdekontakten.no
X-WR-CALDESC:Arrangement for Bygdekontakten
REFRESH-INTERVAL;VALUE=DURATION:PT1H
X-Robots-Tag:noindex
X-PUBLISHED-TTL:PT1H
BEGIN:VTIMEZONE
TZID:Europe/Oslo
BEGIN:DAYLIGHT
TZOFFSETFROM:+0100
TZOFFSETTO:+0200
TZNAME:CEST
DTSTART:20180325T010000
END:DAYLIGHT
BEGIN:STANDARD
TZOFFSETFROM:+0200
TZOFFSETTO:+0100
TZNAME:CET
DTSTART:20181028T010000
END:STANDARD
BEGIN:DAYLIGHT
TZOFFSETFROM:+0100
TZOFFSETTO:+0200
TZNAME:CEST
DTSTART:20190331T010000
END:DAYLIGHT
BEGIN:STANDARD
TZOFFSETFROM:+0200
TZOFFSETTO:+0100
TZNAME:CET
DTSTART:20191027T010000
END:STANDARD
BEGIN:DAYLIGHT
TZOFFSETFROM:+0100
TZOFFSETTO:+0200
TZNAME:CEST
DTSTART:20200329T010000
END:DAYLIGHT
BEGIN:STANDARD
TZOFFSETFROM:+0200
TZOFFSETTO:+0100
TZNAME:CET
DTSTART:20201025T010000
END:STANDARD
END:VTIMEZONE
BEGIN:VEVENT
DTSTART;TZID=Europe/Oslo:20190506T200000
DTEND;TZID=Europe/Oslo:20190506T200000
DTSTAMP:20260425T181719
CREATED:20190425T205310Z
LAST-MODIFIED:20190428T125714Z
UID:1287-1557172800-1557172800@bygdekontakten.no
SUMMARY:Fotball herrer Kvam - Byafossen på Kvam stadion
DESCRIPTION:
URL:https://bygdekontakten.no/event/fotball-herrer-kvam-byafossen/
CATEGORIES:Idrettsarrangementer
END:VEVENT
BEGIN:VEVENT
DTSTART;VALUE=DATE:20190507
DTEND;VALUE=DATE:20190508
DTSTAMP:20260425T181719
CREATED:20190425T205617Z
LAST-MODIFIED:20190425T205644Z
UID:1290-1557187200-1557273599@bygdekontakten.no
SUMMARY:Fotball J 11 Følling - Egge kl 1830 på Semsmyra
DESCRIPTION:
URL:https://bygdekontakten.no/event/fotball-j-11-kvam-folling-egge-kl-1830-pa-semsmyra/
CATEGORIES:Idrettsarrangementer
END:VEVENT
BEGIN:VEVENT
DTSTART;TZID=Europe/Oslo:20190510T183000
DTEND;TZID=Europe/Oslo:20190510T183000
DTSTAMP:20260425T181719
CREATED:20190425T210054Z
LAST-MODIFIED:20190510T053711Z
UID:1293-1557513000-1557513000@bygdekontakten.no
SUMMARY:Fotball G 12   Kvam/Følling - Sverre kl 1830 på Kvam stadion
DESCRIPTION:
URL:https://bygdekontakten.no/event/fotball-g-12-kvam-folling-sverre-kl-1830-pa-kvam-stadion/
CATEGORIES:Idrettsarrangementer
END:VEVENT
BEGIN:VEVENT
DTSTART;TZID=Europe/Oslo:20190512T110000
DTEND;TZID=Europe/Oslo:20190512T110000
DTSTAMP:20260425T181719
CREATED:20190428T123933Z
LAST-MODIFIED:20190428T124227Z
UID:1344-1557658800-1557658800@bygdekontakten.no
SUMMARY:Fotball J 13 Følling/Beitstad - Varden på Semsmyra
DESCRIPTION:
URL:https://bygdekontakten.no/event/fotball-j-13-folling-beitstad-varden/
CATEGORIES:Idrettsarrangementer
END:VEVENT
BEGIN:VEVENT
DTSTART;TZID=Europe/Oslo:20190516T183000
DTEND;TZID=Europe/Oslo:20190516T183000
DTSTAMP:20260425T181719
CREATED:20190428T124351Z
LAST-MODIFIED:20190428T124351Z
UID:1347-1558031400-1558031400@bygdekontakten.no
SUMMARY:Fotball J 13 Følling/Beitstad - Byafossen/Steinkjer 2 på Semsmyra
DESCRIPTION:
URL:https://bygdekontakten.no/event/fotball-j-13-folling-beitstad-byafossen-steinkjer-2-pa-semsmyra/
CATEGORIES:Idrettsarrangementer
END:VEVENT
BEGIN:VEVENT
DTSTART;TZID=Europe/Oslo:20190519T150000
DTEND;TZID=Europe/Oslo:20190519T150000
DTSTAMP:20260425T181719
CREATED:20190428T124513Z
LAST-MODIFIED:20190428T124513Z
UID:1349-1558278000-1558278000@bygdekontakten.no
SUMMARY:Fotball J 13 Følling/Beitstad - Neset på Semsmyra
DESCRIPTION:
URL:https://bygdekontakten.no/event/fotball-j-13-folling-beitstad-neset-pa-semsmyra/
CATEGORIES:Idrettsarrangementer
END:VEVENT
BEGIN:VEVENT
DTSTART;TZID=Europe/Oslo:20190520T200000
DTEND;TZID=Europe/Oslo:20190520T200000
DTSTAMP:20260425T181719
CREATED:20190428T124642Z
LAST-MODIFIED:20190428T124642Z
UID:1351-1558382400-1558382400@bygdekontakten.no
SUMMARY:Fotball Herrer Kvam- Overhalla på Kvam stadion
DESCRIPTION:
URL:https://bygdekontakten.no/event/fotball-herrer-kvam-overhalla-pa-kvam-stadion/
CATEGORIES:Idrettsarrangementer
END:VEVENT
BEGIN:VEVENT
DTSTART;TZID=Europe/Oslo:20190527T200000
DTEND;TZID=Europe/Oslo:20190527T200000
DTSTAMP:20260425T181719
CREATED:20190522T054531Z
LAST-MODIFIED:20190522T054531Z
UID:1479-1558987200-1558987200@bygdekontakten.no
SUMMARY:Fotball Herrer Kvam - Bangsund på Kvam stadion
DESCRIPTION:
URL:https://bygdekontakten.no/event/fotball-herrer-kvam-bangsund-pa-kvam-stadion/
CATEGORIES:Idrettsarrangementer
END:VEVENT
BEGIN:VEVENT
DTSTART;TZID=Europe/Oslo:20190528T183000
DTEND;TZID=Europe/Oslo:20190528T183000
DTSTAMP:20260425T181719
CREATED:20190522T055202Z
LAST-MODIFIED:20190522T055202Z
UID:1482-1559068200-1559068200@bygdekontakten.no
SUMMARY:Fotball G 12 Kvam/Følling - Gullvikmoen på Kvam stadion
DESCRIPTION:
URL:https://bygdekontakten.no/event/fotball-g-12-kvam-folling-gullvikmoen-pa-kvam-stadion/
CATEGORIES:Idrettsarrangementer
END:VEVENT
BEGIN:VEVENT
DTSTART;TZID=Europe/Oslo:20190528T183000
DTEND;TZID=Europe/Oslo:20190528T183000
DTSTAMP:20260425T181719
CREATED:20190522T055311Z
LAST-MODIFIED:20190522T055311Z
UID:1484-1559068200-1559068200@bygdekontakten.no
SUMMARY:Fotball J 11 Følling - Stod på Semsmyra
DESCRIPTION:
URL:https://bygdekontakten.no/event/fotball-j-11-folling-stod-pa-semsmyra/
CATEGORIES:Idrettsarrangementer
END:VEVENT
END:VCALENDAR