BEGIN:VCALENDAR
VERSION:2.0
PRODID:-//Bygdekontakten - ECPv6.15.18//NONSGML v1.0//EN
CALSCALE:GREGORIAN
METHOD:PUBLISH
X-ORIGINAL-URL:https://bygdekontakten.no
X-WR-CALDESC:Arrangement for Bygdekontakten
REFRESH-INTERVAL;VALUE=DURATION:PT1H
X-Robots-Tag:noindex
X-PUBLISHED-TTL:PT1H
BEGIN:VTIMEZONE
TZID:Europe/Oslo
BEGIN:DAYLIGHT
TZOFFSETFROM:+0100
TZOFFSETTO:+0200
TZNAME:CEST
DTSTART:20190331T010000
END:DAYLIGHT
BEGIN:STANDARD
TZOFFSETFROM:+0200
TZOFFSETTO:+0100
TZNAME:CET
DTSTART:20191027T010000
END:STANDARD
BEGIN:DAYLIGHT
TZOFFSETFROM:+0100
TZOFFSETTO:+0200
TZNAME:CEST
DTSTART:20200329T010000
END:DAYLIGHT
BEGIN:STANDARD
TZOFFSETFROM:+0200
TZOFFSETTO:+0100
TZNAME:CET
DTSTART:20201025T010000
END:STANDARD
BEGIN:DAYLIGHT
TZOFFSETFROM:+0100
TZOFFSETTO:+0200
TZNAME:CEST
DTSTART:20210328T010000
END:DAYLIGHT
BEGIN:STANDARD
TZOFFSETFROM:+0200
TZOFFSETTO:+0100
TZNAME:CET
DTSTART:20211031T010000
END:STANDARD
END:VTIMEZONE
BEGIN:VEVENT
DTSTART;TZID=Europe/Oslo:20200919T100000
DTEND;TZID=Europe/Oslo:20200919T170000
DTSTAMP:20260425T164655
CREATED:20200903T201736Z
LAST-MODIFIED:20200903T201736Z
UID:3212-1600509600-1600534800@bygdekontakten.no
SUMMARY:Jegerfelt Bartnes
DESCRIPTION:
URL:https://bygdekontakten.no/event/jegerfelt-bartnes/
CATEGORIES:Andre arrangementer
ATTACH;FMTTYPE=image/jpeg:https://bygdekontakten.no/wp-content/uploads/2020/09/Jegerfelt-org-scaled.jpg
END:VEVENT
END:VCALENDAR