BEGIN:VCALENDAR
VERSION:2.0
PRODID:-//Bygdekontakten - ECPv6.15.18//NONSGML v1.0//EN
CALSCALE:GREGORIAN
METHOD:PUBLISH
X-WR-CALNAME:Bygdekontakten
X-ORIGINAL-URL:https://bygdekontakten.no
X-WR-CALDESC:Arrangement for Bygdekontakten
REFRESH-INTERVAL;VALUE=DURATION:PT1H
X-Robots-Tag:noindex
X-PUBLISHED-TTL:PT1H
BEGIN:VTIMEZONE
TZID:Europe/Oslo
BEGIN:DAYLIGHT
TZOFFSETFROM:+0100
TZOFFSETTO:+0200
TZNAME:CEST
DTSTART:20190331T010000
END:DAYLIGHT
BEGIN:STANDARD
TZOFFSETFROM:+0200
TZOFFSETTO:+0100
TZNAME:CET
DTSTART:20191027T010000
END:STANDARD
BEGIN:DAYLIGHT
TZOFFSETFROM:+0100
TZOFFSETTO:+0200
TZNAME:CEST
DTSTART:20200329T010000
END:DAYLIGHT
BEGIN:STANDARD
TZOFFSETFROM:+0200
TZOFFSETTO:+0100
TZNAME:CET
DTSTART:20201025T010000
END:STANDARD
BEGIN:DAYLIGHT
TZOFFSETFROM:+0100
TZOFFSETTO:+0200
TZNAME:CEST
DTSTART:20210328T010000
END:DAYLIGHT
BEGIN:STANDARD
TZOFFSETFROM:+0200
TZOFFSETTO:+0100
TZNAME:CET
DTSTART:20211031T010000
END:STANDARD
END:VTIMEZONE
BEGIN:VEVENT
DTSTART;TZID=Europe/Oslo:20200508T180000
DTEND;TZID=Europe/Oslo:20200508T220000
DTSTAMP:20260425T132912
CREATED:20200127T171838Z
LAST-MODIFIED:20200127T171838Z
UID:2475-1588960800-1588975200@bygdekontakten.no
SUMMARY:Historisk markering - Historielaget
DESCRIPTION:Historielaget planlegger en markering i forbindelse med at det den 8.mai er 75 år siden 2. verdenskrig ble erklært over! \nMere info kommer! \nFor historielaget\nSigrid Grøtan Øksnes
URL:https://bygdekontakten.no/event/historisk-markering-historielaget/
CATEGORIES:Andre arrangementer
END:VEVENT
BEGIN:VEVENT
DTSTART;TZID=Europe/Oslo:20200521T110000
DTEND;TZID=Europe/Oslo:20200521T150000
DTSTAMP:20260425T132912
CREATED:20200518T210459Z
LAST-MODIFIED:20200518T210459Z
UID:3016-1590058800-1590073200@bygdekontakten.no
SUMMARY:Jaktfeltskyting Kvam
DESCRIPTION:Sted: Skytterhuset på Grøtan.\nPåmelding fra kl 11.00\nEgen junior klasse\, alle hold 50m. Vi har salonger med kikkert til utlån.\nSalg av ammunisjon.\nGavekort på 500kr til beste skytter. 3 uttrekkspremier og premie till alle juniorer. Alle premier er sponset av Interjakt Markhusan. \nVelkommen!
URL:https://bygdekontakten.no/event/jaktfeltskyting-kvam/
CATEGORIES:Andre arrangementer
END:VEVENT
END:VCALENDAR