BEGIN:VCALENDAR
VERSION:2.0
PRODID:-//Bygdekontakten - ECPv6.15.18//NONSGML v1.0//EN
CALSCALE:GREGORIAN
METHOD:PUBLISH
X-ORIGINAL-URL:https://bygdekontakten.no
X-WR-CALDESC:Arrangement for Bygdekontakten
REFRESH-INTERVAL;VALUE=DURATION:PT1H
X-Robots-Tag:noindex
X-PUBLISHED-TTL:PT1H
BEGIN:VTIMEZONE
TZID:Europe/Oslo
BEGIN:DAYLIGHT
TZOFFSETFROM:+0100
TZOFFSETTO:+0200
TZNAME:CEST
DTSTART:20180325T010000
END:DAYLIGHT
BEGIN:STANDARD
TZOFFSETFROM:+0200
TZOFFSETTO:+0100
TZNAME:CET
DTSTART:20181028T010000
END:STANDARD
BEGIN:DAYLIGHT
TZOFFSETFROM:+0100
TZOFFSETTO:+0200
TZNAME:CEST
DTSTART:20190331T010000
END:DAYLIGHT
BEGIN:STANDARD
TZOFFSETFROM:+0200
TZOFFSETTO:+0100
TZNAME:CET
DTSTART:20191027T010000
END:STANDARD
BEGIN:DAYLIGHT
TZOFFSETFROM:+0100
TZOFFSETTO:+0200
TZNAME:CEST
DTSTART:20200329T010000
END:DAYLIGHT
BEGIN:STANDARD
TZOFFSETFROM:+0200
TZOFFSETTO:+0100
TZNAME:CET
DTSTART:20201025T010000
END:STANDARD
END:VTIMEZONE
BEGIN:VEVENT
DTSTART;TZID=Europe/Oslo:20190906T140000
DTEND;TZID=Europe/Oslo:20190906T150000
DTSTAMP:20260423T012455
CREATED:20190820T102243Z
LAST-MODIFIED:20190820T102650Z
UID:1792-1567778400-1567782000@bygdekontakten.no
SUMMARY:Åpent varmebasseng hver fredag
DESCRIPTION:Kvam og Følling sanitetsforening har time fredager kl 14 i varmebassenget til Egge sanitet fra og med fredag 6/9. \nDet er åpent for alle som mener de har nytte av litt tid i varmt vann. \nFor Kvam og Følling sanitetsforening\nRandi Wæhre
URL:https://bygdekontakten.no/event/apent-varmebasseng-hver-fredag/
CATEGORIES:Andre arrangementer
END:VEVENT
END:VCALENDAR