BEGIN:VCALENDAR
VERSION:2.0
PRODID:-//Bygdekontakten - ECPv6.15.18//NONSGML v1.0//EN
CALSCALE:GREGORIAN
METHOD:PUBLISH
X-ORIGINAL-URL:https://bygdekontakten.no
X-WR-CALDESC:Arrangement for Bygdekontakten
REFRESH-INTERVAL;VALUE=DURATION:PT1H
X-Robots-Tag:noindex
X-PUBLISHED-TTL:PT1H
BEGIN:VTIMEZONE
TZID:Europe/Oslo
BEGIN:DAYLIGHT
TZOFFSETFROM:+0100
TZOFFSETTO:+0200
TZNAME:CEST
DTSTART:20180325T010000
END:DAYLIGHT
BEGIN:STANDARD
TZOFFSETFROM:+0200
TZOFFSETTO:+0100
TZNAME:CET
DTSTART:20181028T010000
END:STANDARD
BEGIN:DAYLIGHT
TZOFFSETFROM:+0100
TZOFFSETTO:+0200
TZNAME:CEST
DTSTART:20190331T010000
END:DAYLIGHT
BEGIN:STANDARD
TZOFFSETFROM:+0200
TZOFFSETTO:+0100
TZNAME:CET
DTSTART:20191027T010000
END:STANDARD
BEGIN:DAYLIGHT
TZOFFSETFROM:+0100
TZOFFSETTO:+0200
TZNAME:CEST
DTSTART:20200329T010000
END:DAYLIGHT
BEGIN:STANDARD
TZOFFSETFROM:+0200
TZOFFSETTO:+0100
TZNAME:CET
DTSTART:20201025T010000
END:STANDARD
END:VTIMEZONE
BEGIN:VEVENT
DTSTART;TZID=Europe/Oslo:20190804T113000
DTEND;TZID=Europe/Oslo:20190804T170000
DTSTAMP:20260422T232927
CREATED:20190704T195829Z
LAST-MODIFIED:20190704T195829Z
UID:1649-1564918200-1564938000@bygdekontakten.no
SUMMARY:Fjellslåttdag
DESCRIPTION:Fjellslåttdag 04.08.2019 \n \nKvam Historielag inviterer til fjellslåttdag v/ Veinesbua\, Kvam\, søndag 4. august 2019 kl. 11.30 \nMerket løype fra Ryggadalen og Skogan. \nProgram: \n\nSimon Heier\, fra Fylkesmannen\, orienterer om skjøtsel av slåttemyrene og om tilskudd til slått og skjøtselsplan.\nRoger Lyngstad forteller om fjellslått gjennom tidene\nPer Skevik snakker om og viser redskaper som nyttes ved fjellslått\nVidar Meldal orienterer om erfaring med fjellslått og skjøtselsplan.\n\nDet blir demonstrasjon av slått og raking. \nServering: Svartkjelkaffe og hyllkak\, saft til ungene. \nOppfordring om å medbringe slåtteutstyr for de som har og kle seg i klær fra den tiden. \nØnsker alle hjertelig velkommen til en innholdsrik dag ved Veinesbua
URL:https://bygdekontakten.no/event/fjellslattdag/
CATEGORIES:Andre arrangementer
END:VEVENT
END:VCALENDAR